BEGIN:VCALENDAR
VERSION:2.0
PRODID:-//wp-events-plugin.com//7.2.3.1//EN
TZID:America/Chicago
X-WR-TIMEZONE:America/Chicago
BEGIN:VEVENT
UID:171@cahokiamounds.org
DTSTART;TZID=America/Chicago:20210919T063000
DTEND;TZID=America/Chicago:20210919T080000
DTSTAMP:20210721T210739Z
URL:https://cahokiamounds.org/events/summer-solstice/
SUMMARY:Fall Equinox Observance
DESCRIPTION:Fall Equinox Observance\, 6:30am
LOCATION:Cahokia Mounds\, 30 Ramey St.\, Collinsville\, IL\, 62234\, United
  States
GEO:38.6548533;-90.05927729999996
X-APPLE-STRUCTURED-LOCATION;VALUE=URI;X-ADDRESS=30 Ramey St.\, Collinsville
 \, IL\, 62234\, United States;X-APPLE-RADIUS=100;X-TITLE=Cahokia Mounds:ge
 o:38.6548533,-90.05927729999996
END:VEVENT
BEGIN:VTIMEZONE
TZID:America/Chicago
X-LIC-LOCATION:America/Chicago
BEGIN:DAYLIGHT
DTSTART:20210314T030000
TZOFFSETFROM:-0600
TZOFFSETTO:-0500
TZNAME:CDT
END:DAYLIGHT
END:VTIMEZONE
END:VCALENDAR