BEGIN:VCALENDAR
VERSION:2.0
PRODID:-//wp-events-plugin.com//7.2.3.1//EN
TZID:America/Chicago
X-WR-TIMEZONE:America/Chicago
BEGIN:VEVENT
UID:244@cahokiamounds.org
DTSTART;TZID=America/Chicago:20240518T100000
DTEND;TZID=America/Chicago:20240519T200000
DTSTAMP:20231221T154327Z
URL:https://cahokiamounds.org/events/spring-native-american-market-2024/
SUMMARY:Spring Native American Market 2024
DESCRIPTION:This year’s Spring Native American Market is moving to the Co
 llinsville\, IL VFW-Post 5691\, located at 1234 Vandalia Street. This uniq
 ue 2-day shopping event will be open to the public Saturday\, May 18 &amp\
 ; Sunday\, May 19\, from 10 AM to 8 PM. Over 30 tribal affiliated artists 
 from across North America demonstrate and sell authentic indigenous arts a
 nd crafts. Some available items include jewelry\, ceramics\, paintings/dra
 wings\, clothing\, flutes\, woodcarvings\, and much more! This event is op
 en to the public with FREE admission and parking. We look forward to seein
 g you there! \nStay tuned for additional information and a working list o
 f participating Native American artisans.
ATTACH;FMTTYPE=image/jpeg:https://cahokiamounds.org/wpress/wp-content/uplo
 ads/2023/12/Add-a-title-1.jpg
CATEGORIES:Craft Show
LOCATION:Collinsville VFW POST 5691\, 1234 Vandalia Street\, Collinsville\,
  IL\, 62234\, United States
X-APPLE-STRUCTURED-LOCATION;VALUE=URI;X-ADDRESS=1234 Vandalia Street\, Coll
 insville\, IL\, 62234\, United States;X-APPLE-RADIUS=100;X-TITLE=Collinsvi
 lle VFW POST 5691:geo:0,0
END:VEVENT
BEGIN:VTIMEZONE
TZID:America/Chicago
X-LIC-LOCATION:America/Chicago
BEGIN:DAYLIGHT
DTSTART:20240310T030000
TZOFFSETFROM:-0600
TZOFFSETTO:-0500
TZNAME:CDT
END:DAYLIGHT
END:VTIMEZONE
END:VCALENDAR