BEGIN:VCALENDAR
VERSION:2.0
PRODID:-//wp-events-plugin.com//7.2.3.1//EN
TZID:America/Chicago
X-WR-TIMEZONE:America/Chicago
BEGIN:VEVENT
UID:209@cahokiamounds.org
DTSTART;TZID=America/Chicago:20221106T090000
DTEND;TZID=America/Chicago:20221106T120000
DTSTAMP:20221019T143330Z
URL:https://cahokiamounds.org/events/city-of-the-sun-5k-walk-run/
SUMMARY:City of the Sun 5k Walk/Run
DESCRIPTION:Join us on November 6 for our annual City of the Sun 5k Run! Ma
 ke your way through the grounds as you race to help Cahokia Mounds Museum 
 Society further its mission of preserving and interpreting Cahokia Mounds.
 \n\nThis year's race is sponsored by Blackbird Bakery & Cafe\, Custom Floo
 rs & More\, Good Times Carnival\, Sue Land\, Krieg Heating and the Jacquin
  family. Timing services will be provided by Toolen's Running Start.\n\nRe
 gistration is $25 by August 1 and $30 by October 23. Family registration f
 or two is $45. Packet pickup is November 4 in the Monks Mound parking lot 
 from 9-3.\n\nCome enjoy a fun run!  We will be treated to Gus's pretzels a
 fter the race...
ATTACH;FMTTYPE=image/jpeg:https://cahokiamounds.org/wpress/wp-content/uplo
 ads/2022/05/IMG_95752-scaled.jpg
CATEGORIES:Annual,Free
END:VEVENT
BEGIN:VTIMEZONE
TZID:America/Chicago
X-LIC-LOCATION:America/Chicago
BEGIN:STANDARD
DTSTART:20221106T010000
TZOFFSETFROM:-0500
TZOFFSETTO:-0600
TZNAME:CST
END:STANDARD
END:VTIMEZONE
END:VCALENDAR